BEGIN:VCALENDAR
VERSION:2.0
PRODID:-//Denville Public Library - ECPv6.15.20//NONSGML v1.0//EN
CALSCALE:GREGORIAN
METHOD:PUBLISH
X-WR-CALNAME:Denville Public Library
X-ORIGINAL-URL:https://www.denvillelibrary.org
X-WR-CALDESC:Events for Denville Public Library
REFRESH-INTERVAL;VALUE=DURATION:PT1H
X-Robots-Tag:noindex
X-PUBLISHED-TTL:PT1H
BEGIN:VTIMEZONE
TZID:America/New_York
BEGIN:DAYLIGHT
TZOFFSETFROM:-0500
TZOFFSETTO:-0400
TZNAME:EDT
DTSTART:20250309T070000
END:DAYLIGHT
BEGIN:STANDARD
TZOFFSETFROM:-0400
TZOFFSETTO:-0500
TZNAME:EST
DTSTART:20251102T060000
END:STANDARD
BEGIN:DAYLIGHT
TZOFFSETFROM:-0500
TZOFFSETTO:-0400
TZNAME:EDT
DTSTART:20260308T070000
END:DAYLIGHT
BEGIN:STANDARD
TZOFFSETFROM:-0400
TZOFFSETTO:-0500
TZNAME:EST
DTSTART:20261101T060000
END:STANDARD
BEGIN:DAYLIGHT
TZOFFSETFROM:-0500
TZOFFSETTO:-0400
TZNAME:EDT
DTSTART:20270314T070000
END:DAYLIGHT
BEGIN:STANDARD
TZOFFSETFROM:-0400
TZOFFSETTO:-0500
TZNAME:EST
DTSTART:20271107T060000
END:STANDARD
END:VTIMEZONE
BEGIN:VEVENT
DTSTART;TZID=America/New_York:20260414T133000
DTEND;TZID=America/New_York:20260414T153000
DTSTAMP:20260420T055915
CREATED:20260319T165728Z
LAST-MODIFIED:20260326T144636Z
UID:10002594-1776173400-1776180600@www.denvillelibrary.org
SUMMARY:Knitting & Crochet Group - In Person
DESCRIPTION:Unleash your creativity and join our Knitting and Crochet Group at the library! Whether you’re a seasoned pro or just starting out\, this friendly and supportive group is the perfect place to share tips and work on your latest project. Meet like-minded crafters\, enjoy a relaxed atmosphere\, and get inspired by the amazing creations around you. Bring your yarn\, your ideas\, and your passion – we’ll provide the community and the fun! All skill levels are welcome\, so come stitch with us and discover the joy of making something beautiful with your hands.  We  meet on the second and last Tuesday of the month. No registration needed. April dates are April 14 & 28.
URL:https://www.denvillelibrary.org/event/10322/2026-04-14/
CATEGORIES:Adult
END:VEVENT
BEGIN:VEVENT
DTSTART;TZID=America/New_York:20260414T190000
DTEND;TZID=America/New_York:20260414T200000
DTSTAMP:20260420T055915
CREATED:20260319T165429Z
LAST-MODIFIED:20260320T195543Z
UID:10002593-1776193200-1776196800@www.denvillelibrary.org
SUMMARY:Virtual Author Talk - Brad Taylor
DESCRIPTION:On Writing Action-Packed and Suspenseful Spycraft with Brad Taylor\n \nJoin us in conversation with acclaimed author Brad Taylor on his latest work\, Shadow Strike\, book 20 (yes\, you read that right!) of the bestselling Pike Logan series. \nAfter its proxies are devastated and its offensive capability pummeled in the latest war in the Middle East\, a rogue group of Iranian regime officials create a brazen plot to strike back at their hated enemies once and for all. They envision a series of operational dominos culminating in a devastating attack\, and the first step is the assassination of the Israeli prime minister.  And there’s only one assassin with the skills to pull it off: Abdul Rahman\, known in the shadows as the Ghost. \nWhen a routine prison transfer is ambushed\, the Ghost escapes and is given the assignment. The only Operator who can hunt him down is the man who stopped him before: Pike Logan. \nPike and his team soon learn that the mission involves something bigger than just the escape of his old enemy. Working with Mossad agents\, the pursuit leads the Taskforce to Argentina. They work to unravel the scope of the attack\, and the chase leads them through the tempestuous waterfalls of Iguazu and the Triple Frontier\, to the vibrant streets of Buenos Aires\, and the tiny village of Ushuaia at the “End of the World.” \nAs the team races against the clock\, Pike learns the stakes are much greater than a single life – the consequences extend into the heartland of America itself. The Ghost may hold the key to an escalation that will upend the worldwide balance of power\, and if Pike fails\, the fallout won’t just be personal – it’ll be global. \nRegister today to learn why the Pike Logan series has everyone buzzing!  Can’t make it then?  Register and receive an email with a link to the recording.
URL:https://www.denvillelibrary.org/event/virtual-author-talk-brad-taylor/
CATEGORIES:Adult
END:VEVENT
BEGIN:VEVENT
DTSTART;TZID=America/New_York:20260414T190000
DTEND;TZID=America/New_York:20260414T200000
DTSTAMP:20260420T055915
CREATED:20260319T205407Z
LAST-MODIFIED:20260319T205407Z
UID:10002596-1776193200-1776196800@www.denvillelibrary.org
SUMMARY:Eyewitness to the Revolution - In Person
DESCRIPTION:Step into the world of the American Revolution through the eyes of an extraordinary woman.  Carol Simon Levin portrays Catharine “Caty” Greene\, the indomitable wife of Nathaneal Greene\, one of Gen. George Washington’s most valued officers.  Known as a witty raconteur\, she enlivened the sprits of officers and troops alike as the war ranged form New Jersey to South Carolina\, famously dancing for 3 hours straight with George Washington.  Her pluck and spirit carried her through victories and tragedies not only during the war\, but throughout a remarkable life of resilience and reinvention. \n\nPortrait of Cathatrine Greene\, Attributed to James Frothingham\, 1809 – Telfair Museums
URL:https://www.denvillelibrary.org/event/eyewitness-to-the-revolution-in-person/
CATEGORIES:Adult
END:VEVENT
END:VCALENDAR